BEGIN:VCALENDAR
VERSION:2.0
PRODID:-//ReminderFox V2.1.2//EN
X-REMINDERFOX-LAST-MODIFIED:1382906441276

BEGIN:VEVENT
UID:1195131600000-926618460
SUMMARY:Sune
DTSTART;VALUE=DATE:20080106
DTEND;VALUE=DATE:20080107
CATEGORIES:Birthday
X-REMINDERFOX-CATEGORIES:Birthday
RRULE:FREQ=YEARLY;INTERVAL=1;BYMONTH=01
LAST-MODIFIED:20080110T091840
X-REMINDERFOX-COMPLETED:20130107
CLASS:PUBLIC
STATUS:CONFIRMED
DTSTAMP:20070731T230848
BEGIN:VALARM
TRIGGER:-PT5H
ACTION:DISPLAY
DESCRIPTION:Sune
X-REMINDERFOX-LASTACK:1357504693878
END:VALARM
END:VEVENT
BEGIN:VEVENT
UID:1199538000000-951186857
SUMMARY:Pa Hannes
DTSTART;VALUE=DATE:20080121
DTEND;VALUE=DATE:20080122
CATEGORIES:Birthday
X-REMINDERFOX-CATEGORIES:Birthday
RRULE:FREQ=YEARLY;INTERVAL=1;BYMONTH=01
LAST-MODIFIED:20080121T182501
X-REMINDERFOX-COMPLETED:20120125
CLASS:PUBLIC
STATUS:CONFIRMED
DTSTAMP:20070731T230924
BEGIN:VALARM
TRIGGER:-PT5H
ACTION:DISPLAY
DESCRIPTION:Pa Hannes
X-REMINDERFOX-LASTACK:1358716337223
END:VALARM
END:VEVENT
BEGIN:VEVENT
UID:1200834000000-954001614
SUMMARY:Ma Martie
DTSTART;VALUE=DATE:20080123
DTEND;VALUE=DATE:20080124
CATEGORIES:Birthday
X-REMINDERFOX-CATEGORIES:Birthday
RRULE:FREQ=YEARLY;INTERVAL=1;BYMONTH=01
LAST-MODIFIED:20080123T220925
X-REMINDERFOX-COMPLETED:20120125
CLASS:PUBLIC
STATUS:CONFIRMED
DTSTAMP:20070731T230942
BEGIN:VALARM
TRIGGER:-PT5H
ACTION:DISPLAY
DESCRIPTION:Ma Martie
X-REMINDERFOX-LASTACK:1358841668394
END:VALARM
END:VEVENT
BEGIN:VEVENT
UID:1201006800000-967575347
SUMMARY:Gert trouherdenking
DTSTART;VALUE=DATE:20080124
DTEND;VALUE=DATE:20080125
CATEGORIES:Anniversary
X-REMINDERFOX-CATEGORIES:Anniversary
RRULE:FREQ=YEARLY;INTERVAL=1;BYMONTH=01
LAST-MODIFIED:20080124T194931
X-REMINDERFOX-COMPLETED:20080124
CLASS:PUBLIC
STATUS:CONFIRMED
DTSTAMP:20070731T231026
END:VEVENT
BEGIN:VEVENT
UID:1201093200000-994029246
SUMMARY:Pa Niek
DTSTART;VALUE=DATE:20080128
DTEND;VALUE=DATE:20080129
CATEGORIES:Birthday
X-REMINDERFOX-CATEGORIES:Birthday
RRULE:FREQ=YEARLY;INTERVAL=1;BYMONTH=01
LAST-MODIFIED:20080128T214425
X-REMINDERFOX-COMPLETED:20080128
CLASS:PUBLIC
STATUS:CONFIRMED
DTSTAMP:20070731T231047
BEGIN:VALARM
TRIGGER:-PT5H
ACTION:DISPLAY
DESCRIPTION:Pa Niek
X-REMINDERFOX-LASTACK:1359409336817
END:VALARM
END:VEVENT
BEGIN:VEVENT
UID:1201438800000-909800549
SUMMARY:Gerrit
DTSTART;VALUE=DATE:20080226
DTEND;VALUE=DATE:20080227
CATEGORIES:Birthday
X-REMINDERFOX-CATEGORIES:Birthday
RRULE:FREQ=YEARLY;INTERVAL=1;BYMONTH=02
LAST-MODIFIED:20080227T191605
X-REMINDERFOX-COMPLETED:20120312
CLASS:PUBLIC
STATUS:CONFIRMED
DTSTAMP:20070731T231121
BEGIN:VALARM
TRIGGER:-PT5H
ACTION:DISPLAY
DESCRIPTION:Gerrit
X-REMINDERFOX-LASTACK:1361779205325
END:VALARM
END:VEVENT
BEGIN:VEVENT
UID:1203944400000-971283368
SUMMARY:Frans Fouche
DTSTART;VALUE=DATE:20080226
DTEND;VALUE=DATE:20080227
CATEGORIES:Birthday
X-REMINDERFOX-CATEGORIES:Birthday
RRULE:FREQ=YEARLY;INTERVAL=1;BYMONTH=02
LAST-MODIFIED:20080227T191608
X-REMINDERFOX-COMPLETED:20120312
CLASS:PUBLIC
STATUS:CONFIRMED
DTSTAMP:20070731T231144
BEGIN:VALARM
TRIGGER:-PT5H
ACTION:DISPLAY
DESCRIPTION:Frans Fouche
X-REMINDERFOX-LASTACK:1361779202765
END:VALARM
END:VEVENT
BEGIN:VEVENT
UID:1203944400000-916169868
SUMMARY:Ma Hanna
DTSTART;VALUE=DATE:20080303
DTEND;VALUE=DATE:20080304
CATEGORIES:Birthday
X-REMINDERFOX-CATEGORIES:Birthday
RRULE:FREQ=YEARLY;INTERVAL=1;BYMONTH=03
LAST-MODIFIED:20080304T075013
X-REMINDERFOX-COMPLETED:20130305
CLASS:PUBLIC
STATUS:CONFIRMED
DTSTAMP:20070731T231214
BEGIN:VALARM
TRIGGER:-PT5H
ACTION:DISPLAY
DESCRIPTION:Ma Hanna
X-REMINDERFOX-LASTACK:1362442974510
END:VALARM
END:VEVENT
BEGIN:VEVENT
UID:1204462800000-954583464
SUMMARY:Pa Niek trouherdenking
DTSTART;VALUE=DATE:20080328
DTEND;VALUE=DATE:20080329
CATEGORIES:Anniversary
X-REMINDERFOX-CATEGORIES:Anniversary
RRULE:FREQ=YEARLY;INTERVAL=1;BYMONTH=03
LAST-MODIFIED:20070731T231311
X-REMINDERFOX-COMPLETED:20100329
CLASS:PUBLIC
STATUS:CONFIRMED
DTSTAMP:20070731T231311
BEGIN:VALARM
TRIGGER:-PT5M
ACTION:DISPLAY
DESCRIPTION:Pa Niek trouherdenking
X-REMINDERFOX-LASTACK:1364546636525
END:VALARM
END:VEVENT
BEGIN:VEVENT
UID:1199278800000-908273951
SUMMARY:Pay super
DTSTART;VALUE=DATE:20080425
DTEND;VALUE=DATE:20080426
RRULE:FREQ=MONTHLY;INTERVAL=3
LAST-MODIFIED:20120118T140627
X-REMINDERFOX-COMPLETED:20130725
CLASS:PUBLIC
STATUS:CONFIRMED
DTSTAMP:20080103T233718
BEGIN:VALARM
TRIGGER:-PT5M
ACTION:DISPLAY
DESCRIPTION:Pay super
X-REMINDERFOX-LASTACK:1382654789115
END:VALARM
END:VEVENT
BEGIN:VEVENT
UID:1206622800000-911787124
SUMMARY:Robyn Clemence
DTSTART;VALUE=DATE:20080514
DTEND;VALUE=DATE:20080515
CATEGORIES:Birthday
X-REMINDERFOX-CATEGORIES:Birthday
RRULE:FREQ=YEARLY;INTERVAL=1;BYMONTH=05
LAST-MODIFIED:20080523T075312
X-REMINDERFOX-COMPLETED:20080523
CLASS:PUBLIC
STATUS:CONFIRMED
DTSTAMP:20070731T231404
END:VEVENT
BEGIN:VEVENT
UID:1211551200000-955314183
SUMMARY:Debbie
DTSTART;VALUE=DATE:20080528
DTEND;VALUE=DATE:20080529
CATEGORIES:Birthday
X-REMINDERFOX-CATEGORIES:Birthday
RRULE:FREQ=YEARLY;INTERVAL=1;BYMONTH=05
LAST-MODIFIED:20080528T203858
X-REMINDERFOX-COMPLETED:20120528
CLASS:PUBLIC
STATUS:CONFIRMED
DTSTAMP:20070731T231446
BEGIN:VALARM
TRIGGER:-PT5H
ACTION:DISPLAY
DESCRIPTION:Debbie
X-REMINDERFOX-LASTACK:1369694766261
END:VALARM
END:VEVENT
BEGIN:VEVENT
UID:1211896800000-921289157
SUMMARY:Trouherdenking
DTSTART;VALUE=DATE:20080529
DTEND;VALUE=DATE:20080530
CATEGORIES:Anniversary
X-REMINDERFOX-CATEGORIES:Anniversary
RRULE:FREQ=YEARLY;INTERVAL=1;BYMONTH=05
PRIORITY:1
X-REMINDERFOX-PRIORITY:1
LAST-MODIFIED:20070731T231603
X-REMINDERFOX-COMPLETED:20120529
CLASS:PUBLIC
STATUS:CONFIRMED
DTSTAMP:20070731T231603
BEGIN:VALARM
TRIGGER:-PT5M
ACTION:DISPLAY
DESCRIPTION:Trouherdenking
X-REMINDERFOX-LASTACK:1369778843212
END:VALARM
END:VEVENT
BEGIN:VEVENT
UID:1304767246835-963815108
SUMMARY:wage dec
DTSTART;VALUE=DATE:20110602
DTEND;VALUE=DATE:20110603
RRULE:FREQ=YEARLY;INTERVAL=1;BYMONTH=06
PRIORITY:1
X-REMINDERFOX-PRIORITY:1
LAST-MODIFIED:20120604T072402
X-REMINDERFOX-REMIND-UNTIL-COMPLETED:2
X-REMINDERFOX-COMPLETED:20110615
CLASS:PUBLIC
STATUS:CONFIRMED
DTSTAMP:20110507T212109
END:VEVENT
BEGIN:VEVENT
UID:1211896800000-980602303
SUMMARY:thinus
DTSTART;VALUE=DATE:20080616
DTEND;VALUE=DATE:20080617
CATEGORIES:Birthday
X-REMINDERFOX-CATEGORIES:Birthday
RRULE:FREQ=YEARLY;INTERVAL=1;BYMONTH=06
LAST-MODIFIED:20080616T194753
X-REMINDERFOX-COMPLETED:20080616
CLASS:PUBLIC
STATUS:CONFIRMED
DTSTAMP:20070731T231550
END:VEVENT
BEGIN:VEVENT
UID:1211983200000-955730062
SUMMARY:Julian
DTSTART;VALUE=DATE:20080618
DTEND;VALUE=DATE:20080619
CATEGORIES:Birthday
X-REMINDERFOX-CATEGORIES:Birthday
RRULE:FREQ=YEARLY;INTERVAL=1;BYMONTH=06
LAST-MODIFIED:20080618T072431
X-REMINDERFOX-COMPLETED:20080618
CLASS:PUBLIC
STATUS:CONFIRMED
DTSTAMP:20070731T231628
END:VEVENT
BEGIN:VEVENT
UID:1185798948750-932508624
SUMMARY:make user backup
DTSTART:20080628T090000
DTEND:20120628T100000
CATEGORIES:Business
X-REMINDERFOX-CATEGORIES:Business
RRULE:FREQ=WEEKLY;INTERVAL=9;BYDAY=SA
PRIORITY:1
X-REMINDERFOX-PRIORITY:1
LAST-MODIFIED:20130902T082122
X-REMINDERFOX-REMIND-UNTIL-COMPLETED:1
X-REMINDERFOX-COMPLETED:20130907
CLASS:PUBLIC
STATUS:CONFIRMED
DTSTAMP:20071213T072237
BEGIN:VALARM
TRIGGER:-PT15M
ACTION:DISPLAY
DESCRIPTION:make user backup
X-REMINDERFOX-LASTACK:1378518285605
END:VALARM
END:VEVENT
BEGIN:VEVENT
UID:1204376400000-971272652
SUMMARY:LAN maintenance
DTSTART;VALUE=DATE:20080628
DTEND;VALUE=DATE:20110517
RRULE:FREQ=WEEKLY;INTERVAL=9;BYDAY=SA
LAST-MODIFIED:20130428T123827
X-REMINDERFOX-REMIND-UNTIL-COMPLETED:2
X-REMINDERFOX-COMPLETED:20130223
CLASS:PUBLIC
STATUS:CONFIRMED
DTSTAMP:20080302T200511
END:VEVENT
BEGIN:VEVENT
UID:1211810400000-917790608
SUMMARY:Backups restore check
DTSTART;VALUE=DATE:20080705
DTEND;VALUE=DATE:20080706
RRULE:FREQ=WEEKLY;INTERVAL=2;BYDAY=MO,SA
LAST-MODIFIED:20111115T073235
X-REMINDERFOX-REMIND-UNTIL-COMPLETED:2
X-REMINDERFOX-COMPLETED:20111107
CLASS:PUBLIC
STATUS:CONFIRMED
DTSTAMP:20080527T080209
END:VEVENT
BEGIN:VEVENT
UID:1213711200000-958092868
SUMMARY:Nico
DTSTART;VALUE=DATE:20080707
DTEND;VALUE=DATE:20080708
CATEGORIES:Birthday
X-REMINDERFOX-CATEGORIES:Birthday
RRULE:FREQ=YEARLY;INTERVAL=1;BYMONTH=07
LAST-MODIFIED:20090707T195407
X-REMINDERFOX-COMPLETED:20090707
CLASS:PUBLIC
STATUS:CONFIRMED
DTSTAMP:20070731T231650
END:VEVENT
BEGIN:VEVENT
UID:1185801684875-973348232
SUMMARY:All salaries  pay
DTSTART;VALUE=DATE:20110719
DTEND;VALUE=DATE:20110720
CATEGORIES:Business
X-REMINDERFOX-CATEGORIES:Business
RRULE:FREQ=WEEKLY;INTERVAL=2;BYDAY=TU
PRIORITY:1
X-REMINDERFOX-PRIORITY:1
LAST-MODIFIED:20131023T085200
X-REMINDERFOX-REMIND-UNTIL-COMPLETED:1
X-REMINDERFOX-COMPLETED:20131023
CLASS:PUBLIC
STATUS:CONFIRMED
DTSTAMP:20071216T205331
BEGIN:VALARM
TRIGGER:-PT60M
ACTION:DISPLAY
DESCRIPTION:All salaries  pay
X-REMINDERFOX-LASTACK:1382488830332
END:VALARM
END:VEVENT
BEGIN:VEVENT
UID:1185199200000-999869258
SUMMARY:Fridge data download
DTSTART;VALUE=DATE:20070728
DTEND;VALUE=DATE:20070729
CATEGORIES:Business
X-REMINDERFOX-CATEGORIES:Business
RRULE:FREQ=MONTHLY;INTERVAL=1
LAST-MODIFIED:20130930T093730
X-REMINDERFOX-REMIND-UNTIL-COMPLETED:1
X-REMINDERFOX-COMPLETED:20131015
CLASS:PUBLIC
STATUS:CONFIRMED
DTSTAMP:20071124T165829
BEGIN:VALARM
TRIGGER:-PT5H
ACTION:DISPLAY
DESCRIPTION:Fridge data download
X-REMINDERFOX-LASTACK:1382906441276
END:VALARM
END:VEVENT
BEGIN:VEVENT
UID:1185802173453-942433587
SUMMARY:Inadi
DTSTART;VALUE=DATE:20070805
DTEND;VALUE=DATE:20070806
CATEGORIES:Birthday
X-REMINDERFOX-CATEGORIES:Birthday
RRULE:FREQ=YEARLY;INTERVAL=1;BYMONTH=08
LAST-MODIFIED:20110805T185006
X-REMINDERFOX-COMPLETED:20130805
CLASS:PUBLIC
STATUS:CONFIRMED
DTSTAMP:20070805T200729
BEGIN:VALARM
TRIGGER:-PT5M
ACTION:DISPLAY
DESCRIPTION:Inadi
X-REMINDERFOX-LASTACK:1375654827968
END:VALARM
END:VEVENT
BEGIN:VEVENT
UID:1186313938477-918730401
SUMMARY:Sarah
DTSTART:20070811T073000
DTEND:20070811T083000
DESCRIPTION:24/60 Copland Drive\n0438618790
CATEGORIES:Miscellaneous, Personal
X-REMINDERFOX-CATEGORIES:Miscellaneous, Personal
LAST-MODIFIED:20070813T140909
X-REMINDERFOX-COMPLETED:20070813
CLASS:PUBLIC
STATUS:CONFIRMED
DTSTAMP:20070813T140909
END:VEVENT
BEGIN:VEVENT
UID:1186567200000-906672489
SUMMARY:Burn CD at home
DTSTART;VALUE=DATE:20070811
DTEND;VALUE=DATE:20070812
CATEGORIES:Business
X-REMINDERFOX-CATEGORIES:Business
RRULE:FREQ=WEEKLY;INTERVAL=2;BYDAY=SA
PRIORITY:1
X-REMINDERFOX-PRIORITY:1
LAST-MODIFIED:20110905T202902
X-REMINDERFOX-COMPLETED:20110905
CLASS:PUBLIC
STATUS:CONFIRMED
X-REM
DTSTAMP:20080210T155630
END:VEVENT
BEGIN:VEVENT
UID:1194872400000-940226008
SUMMARY:BAS payment
DTSTART;VALUE=DATE:20081015
DTEND;VALUE=DATE:20081016
RRULE:FREQ=MONTHLY;INTERVAL=3
PRIORITY:1
X-REMINDERFOX-PRIORITY:1
LAST-MODIFIED:20131016T081150
X-REMINDERFOX-REMIND-UNTIL-COMPLETED:1
X-REMINDERFOX-COMPLETED:20131017
CLASS:PUBLIC
STATUS:CONFIRMED
DTSTAMP:20071106T100745
BEGIN:VALARM
TRIGGER:-PT5M
ACTION:DISPLAY
DESCRIPTION:BAS payment
X-REMINDERFOX-LASTACK:1381955816599
END:VALARM
END:VEVENT
X-REMINDERFOX-SUMMARY:Events=26 Todos=0
END:VCALENDAR
